BEGIN:VCALENDAR
VERSION:2.0
PRODID:-//Klassische Reitkunst - ECPv6.15.20//NONSGML v1.0//EN
CALSCALE:GREGORIAN
METHOD:PUBLISH
X-WR-CALNAME:Klassische Reitkunst
X-ORIGINAL-URL:https://www.potucek.de
X-WR-CALDESC:Veranstaltungen für Klassische Reitkunst
REFRESH-INTERVAL;VALUE=DURATION:PT1H
X-Robots-Tag:noindex
X-PUBLISHED-TTL:PT1H
BEGIN:VTIMEZONE
TZID:Europe/Berlin
BEGIN:DAYLIGHT
TZOFFSETFROM:+0100
TZOFFSETTO:+0200
TZNAME:CEST
DTSTART:20210328T010000
END:DAYLIGHT
BEGIN:STANDARD
TZOFFSETFROM:+0200
TZOFFSETTO:+0100
TZNAME:CET
DTSTART:20211031T010000
END:STANDARD
BEGIN:DAYLIGHT
TZOFFSETFROM:+0100
TZOFFSETTO:+0200
TZNAME:CEST
DTSTART:20220327T010000
END:DAYLIGHT
BEGIN:STANDARD
TZOFFSETFROM:+0200
TZOFFSETTO:+0100
TZNAME:CET
DTSTART:20221030T010000
END:STANDARD
BEGIN:DAYLIGHT
TZOFFSETFROM:+0100
TZOFFSETTO:+0200
TZNAME:CEST
DTSTART:20230326T010000
END:DAYLIGHT
BEGIN:STANDARD
TZOFFSETFROM:+0200
TZOFFSETTO:+0100
TZNAME:CET
DTSTART:20231029T010000
END:STANDARD
END:VTIMEZONE
BEGIN:VEVENT
DTSTART;VALUE=DATE:20220513
DTEND;VALUE=DATE:20220516
DTSTAMP:20260420T064227
CREATED:20200624T152818Z
LAST-MODIFIED:20220409T155109Z
UID:5011-1652400000-1652659199@www.potucek.de
SUMMARY:Trainingscamp im Raum Budapest | Ungarn
DESCRIPTION:Das Ziel während des Kurses ist es\, einen sinnvollen und individuellen Trainingsplan für alle Reiterpaare zu erarbeiten. Dabei werden nicht etwa nur Turnierreiter – egal\, ob aus dem Bereich Dressur\, Springen oder Vielseitigkeit -\, sondern auch Freizeitreiter und Anfänger angesprochen\, da der Fokus auf dem korrekten Sitz liegt\, der die Grundlage für die korrekte Hilfengebung darstellt. \nNeben der Reiterposition baut der Unterricht auf den Fundamenten der klassischen Dressur und den klassischen Lektionen auf. So ist es dem Reiter möglich\, seinen Partner Pferd stetig weiter auszubilden und dadurch die Voraussetzungen zur Ausführung schwerer und schwerster Lektionen zu schaffen. \nWenn der Ausbildungsstand des Pferdes es erlaubt\, werden wir fortgeschrittene Lektionen wie Traversalen\, Fliegende Wechsel\, Piaffe und Passage erarbeiten. Dabei sollten wir immer daran denken: „Die Lektion ist für das Pferd da\, nicht das Pferd für die Lektion!“ \nWährend des Kurses werden außerdem vorhandene Probleme gelöst\, von Tag zu Tag deutliche Fortschritte erreicht und diese im Verlauf gefestigt. Gleichzeitig bekommt der Reiter Anregungen an die Hand gegeben\, mit denen er seine eigene Arbeit effektiver gestalten kann und die positiven Entwicklungen aus dem Kurs mit nach Hause nehmen kann. \nNeben „normalem“ Reitunterricht kann auch die Arbeit an der Hand und Reiten im Damensattel gebucht werden. \nEine informative Kombination aus personalisiertem Unterricht und klassischer Theorie erwartet Zuschauer und Kursteilnehmer.
URL:https://www.potucek.de/event/trainingscamp-im-raum-budapest-ungarn-4/
LOCATION:Bellandor\, Páty\, Levendula utca 73\, Páty\, 2071\, Ungarn
CATEGORIES:GER
END:VEVENT
END:VCALENDAR