BEGIN:VCALENDAR
VERSION:2.0
PRODID:-//Klassische Reitkunst - ECPv6.15.20//NONSGML v1.0//EN
CALSCALE:GREGORIAN
METHOD:PUBLISH
X-ORIGINAL-URL:https://www.potucek.de
X-WR-CALDESC:Veranstaltungen für Klassische Reitkunst
REFRESH-INTERVAL;VALUE=DURATION:PT1H
X-Robots-Tag:noindex
X-PUBLISHED-TTL:PT1H
BEGIN:VTIMEZONE
TZID:Europe/Berlin
BEGIN:DAYLIGHT
TZOFFSETFROM:+0100
TZOFFSETTO:+0200
TZNAME:CEST
DTSTART:20220327T010000
END:DAYLIGHT
BEGIN:STANDARD
TZOFFSETFROM:+0200
TZOFFSETTO:+0100
TZNAME:CET
DTSTART:20221030T010000
END:STANDARD
BEGIN:DAYLIGHT
TZOFFSETFROM:+0100
TZOFFSETTO:+0200
TZNAME:CEST
DTSTART:20230326T010000
END:DAYLIGHT
BEGIN:STANDARD
TZOFFSETFROM:+0200
TZOFFSETTO:+0100
TZNAME:CET
DTSTART:20231029T010000
END:STANDARD
BEGIN:DAYLIGHT
TZOFFSETFROM:+0100
TZOFFSETTO:+0200
TZNAME:CEST
DTSTART:20240331T010000
END:DAYLIGHT
BEGIN:STANDARD
TZOFFSETFROM:+0200
TZOFFSETTO:+0100
TZNAME:CET
DTSTART:20241027T010000
END:STANDARD
END:VTIMEZONE
BEGIN:VEVENT
DTSTART;VALUE=DATE:20231104
DTEND;VALUE=DATE:20231106
DTSTAMP:20260423T171254
CREATED:20230928T150600Z
LAST-MODIFIED:20230928T151217Z
UID:5553-1699056000-1699228799@www.potucek.de
SUMMARY:Dressurlehrgang beim RV Rotensol | Deutschland
DESCRIPTION:Einer der wenigen Lehrgänge die in Deutschland stattfinden. Für mehr Informationen bzgl. Preise und Anmeldungen kontaktiert ihr bitte Ailin Künstel eMail: ailinkuenstel@gmx.de
URL:https://www.potucek.de/event/dressurlehrgang-beim-rv-rotensol-deutschland/
LOCATION:RV Rotensol\, Bergstrasse 60\, Bad Herrenalb\, 76332\, Deutschland
CATEGORIES:GER
ORGANIZER;CN="Ailin K%C3%BCnstel":MAILTO:ailinkuenstel@gmx.de
END:VEVENT
BEGIN:VEVENT
DTSTART;VALUE=DATE:20231104
DTEND;VALUE=DATE:20231106
DTSTAMP:20260423T171254
CREATED:20230928T150910Z
LAST-MODIFIED:20230928T151142Z
UID:5559-1699056000-1699228799@www.potucek.de
SUMMARY:Dressagetraining at RV Rotensol | Germany
DESCRIPTION:For further information please contact Ailin Künstel\, RV Rotensol.
URL:https://www.potucek.de/event/dressagetraining-at-rv-rotensol-germany/
LOCATION:RV Rotensol\, Bergstrasse 60\, Bad Herrenalb\, 76332\, Deutschland
CATEGORIES:EN
ORGANIZER;CN="Ailin K%C3%BCnstel":MAILTO:ailinkuenstel@gmx.de
END:VEVENT
END:VCALENDAR